BEGIN:VCALENDAR
VERSION:2.0
PRODID:-//eventon.com NONSGML v1.0//EN
CALSCALE:GREGORIAN
METHOD:PUBLISH
BEGIN:VEVENT
UID:69ea30a91a900
DTSTAMP:20260423T144601Z
DTSTART:20260429T220000Z
DTEND:20260430T013000Z
LOCATION:
SUMMARY:The Asunción Times Cooking Classes - 29 Apr 2026
DESCRIPTION:Learn to cook dishes from around the world! Every dish on the m
 enu has been chosen so you can easily replicate it at home\,  with no speci
 al equipment needed and ingredients you can easily find in Asunción. This 
 time: Eastern European Food\,  with Chef Vadim\nhttps://asunciontimes.com/e
 vents/the-asuncion-times-cooking-classes-29-apr-2026/
URL:https://asunciontimes.com/events/the-asuncion-times-cooking-classes-29-apr-2026/
END:VEVENT
END:VCALENDAR