BEGIN:VCALENDAR
VERSION:2.0
PRODID:-//eventon.com NONSGML v1.0//EN
CALSCALE:GREGORIAN
METHOD:PUBLISH
BEGIN:VEVENT
UID:69e9d3a1e34af
DTSTAMP:20260423T080905Z
DTSTART:20270223T210000Z
DTEND:20270224T000000Z
LOCATION:
SUMMARY:Afterwork English Networking in Asunción
DESCRIPTION:✨ Ready to mix business with pleasure with other English-spea
 kers in Asunción? Join us every week for an unforgettable experience for A
 fterwork English Networking in Asunción! 🔥 Whether you&#8217;re looking
  to expand your network\,  meet people from around the world\,  or just enj
 oy a laid-back evening\,  this is the perfect[..]\nhttps://asunciontimes.co
 m/events/afterwork-english-networking-in-asuncion-weekly/var/ri-42.l-L1
URL:https://asunciontimes.com/events/afterwork-english-networking-in-asuncion-weekly/var/ri-42.l-L1
END:VEVENT
END:VCALENDAR